BEGIN:VCALENDAR
VERSION:2.0
PRODID:-//Northisle - ECPv6.15.20//NONSGML v1.0//EN
CALSCALE:GREGORIAN
METHOD:PUBLISH
X-WR-CALNAME:Northisle
X-ORIGINAL-URL:https://northisle.ca
X-WR-CALDESC:Events for Northisle
REFRESH-INTERVAL;VALUE=DURATION:PT1H
X-Robots-Tag:noindex
X-PUBLISHED-TTL:PT1H
BEGIN:VTIMEZONE
TZID:America/Vancouver
BEGIN:DAYLIGHT
TZOFFSETFROM:-0800
TZOFFSETTO:-0700
TZNAME:PDT
DTSTART:20220313T100000
END:DAYLIGHT
BEGIN:STANDARD
TZOFFSETFROM:-0700
TZOFFSETTO:-0800
TZNAME:PST
DTSTART:20221106T090000
END:STANDARD
BEGIN:DAYLIGHT
TZOFFSETFROM:-0800
TZOFFSETTO:-0700
TZNAME:PDT
DTSTART:20230312T100000
END:DAYLIGHT
BEGIN:STANDARD
TZOFFSETFROM:-0700
TZOFFSETTO:-0800
TZNAME:PST
DTSTART:20231105T090000
END:STANDARD
BEGIN:DAYLIGHT
TZOFFSETFROM:-0800
TZOFFSETTO:-0700
TZNAME:PDT
DTSTART:20240310T100000
END:DAYLIGHT
BEGIN:STANDARD
TZOFFSETFROM:-0700
TZOFFSETTO:-0800
TZNAME:PST
DTSTART:20241103T090000
END:STANDARD
END:VTIMEZONE
BEGIN:VEVENT
DTSTART;TZID=America/Vancouver:20230203T080000
DTEND;TZID=America/Vancouver:20230203T170000
DTSTAMP:20260424T114353
CREATED:20230601T042316Z
LAST-MODIFIED:20230603T010856Z
UID:2597-1675411200-1675443600@northisle.ca
SUMMARY:The Morning Drive
DESCRIPTION:
URL:https://northisle.ca/events/the-morning-drive/
LOCATION:British Columbia
END:VEVENT
BEGIN:VEVENT
DTSTART;TZID=America/Vancouver:20230203T080000
DTEND;TZID=America/Vancouver:20230203T170000
DTSTAMP:20260424T114353
CREATED:20230603T011519Z
LAST-MODIFIED:20230607T174909Z
UID:2655-1675411200-1675443600@northisle.ca
SUMMARY:Proactive Investors interview
DESCRIPTION:
URL:https://northisle.ca/events/northisle-copper-and-gold-identifies-multiple-drill-targets-in-surface-work-at-north-island-project/
LOCATION:British Columbia
END:VEVENT
END:VCALENDAR