BEGIN:VCALENDAR
VERSION:2.0
PRODID:-//Northisle - ECPv6.15.20//NONSGML v1.0//EN
CALSCALE:GREGORIAN
METHOD:PUBLISH
X-WR-CALNAME:Northisle
X-ORIGINAL-URL:https://northisle.ca
X-WR-CALDESC:Events for Northisle
REFRESH-INTERVAL;VALUE=DURATION:PT1H
X-Robots-Tag:noindex
X-PUBLISHED-TTL:PT1H
BEGIN:VTIMEZONE
TZID:America/Vancouver
BEGIN:DAYLIGHT
TZOFFSETFROM:-0800
TZOFFSETTO:-0700
TZNAME:PDT
DTSTART:20230312T100000
END:DAYLIGHT
BEGIN:STANDARD
TZOFFSETFROM:-0700
TZOFFSETTO:-0800
TZNAME:PST
DTSTART:20231105T090000
END:STANDARD
BEGIN:DAYLIGHT
TZOFFSETFROM:-0800
TZOFFSETTO:-0700
TZNAME:PDT
DTSTART:20240310T100000
END:DAYLIGHT
BEGIN:STANDARD
TZOFFSETFROM:-0700
TZOFFSETTO:-0800
TZNAME:PST
DTSTART:20241103T090000
END:STANDARD
BEGIN:DAYLIGHT
TZOFFSETFROM:-0800
TZOFFSETTO:-0700
TZNAME:PDT
DTSTART:20250309T100000
END:DAYLIGHT
BEGIN:STANDARD
TZOFFSETFROM:-0700
TZOFFSETTO:-0800
TZNAME:PST
DTSTART:20251102T090000
END:STANDARD
END:VTIMEZONE
BEGIN:VEVENT
DTSTART;VALUE=DATE:20240303
DTEND;VALUE=DATE:20240307
DTSTAMP:20260423T155115
CREATED:20240118T173132Z
LAST-MODIFIED:20240118T173939Z
UID:3024-1709424000-1709769599@northisle.ca
SUMMARY:Prospectors & Developers Association of Canada (PDAC)
DESCRIPTION:
URL:https://northisle.ca/events/prospectors-developers-association-of-canada-pdac/
LOCATION:Metro Toronto Convention Centre (MTCC)\, 255 Front St W\, Toronto\, Ontario\, M5V 2W6\, Canada
END:VEVENT
END:VCALENDAR