BEGIN:VCALENDAR
VERSION:2.0
PRODID:-//Northisle - ECPv6.15.20//NONSGML v1.0//EN
CALSCALE:GREGORIAN
METHOD:PUBLISH
X-WR-CALNAME:Northisle
X-ORIGINAL-URL:https://northisle.ca
X-WR-CALDESC:Events for Northisle
REFRESH-INTERVAL;VALUE=DURATION:PT1H
X-Robots-Tag:noindex
X-PUBLISHED-TTL:PT1H
BEGIN:VTIMEZONE
TZID:America/Toronto
BEGIN:DAYLIGHT
TZOFFSETFROM:-0500
TZOFFSETTO:-0400
TZNAME:EDT
DTSTART:20230312T070000
END:DAYLIGHT
BEGIN:STANDARD
TZOFFSETFROM:-0400
TZOFFSETTO:-0500
TZNAME:EST
DTSTART:20231105T060000
END:STANDARD
BEGIN:DAYLIGHT
TZOFFSETFROM:-0500
TZOFFSETTO:-0400
TZNAME:EDT
DTSTART:20240310T070000
END:DAYLIGHT
BEGIN:STANDARD
TZOFFSETFROM:-0400
TZOFFSETTO:-0500
TZNAME:EST
DTSTART:20241103T060000
END:STANDARD
BEGIN:DAYLIGHT
TZOFFSETFROM:-0500
TZOFFSETTO:-0400
TZNAME:EDT
DTSTART:20250309T070000
END:DAYLIGHT
BEGIN:STANDARD
TZOFFSETFROM:-0400
TZOFFSETTO:-0500
TZNAME:EST
DTSTART:20251102T060000
END:STANDARD
END:VTIMEZONE
BEGIN:VEVENT
DTSTART;TZID=America/Toronto:20240320T190000
DTEND;TZID=America/Toronto:20240320T200000
DTSTAMP:20260423T155220
CREATED:20240315T181129Z
LAST-MODIFIED:20240315T181129Z
UID:3266-1710961200-1710964800@northisle.ca
SUMMARY:NorthIsle Town Hall Webinar
DESCRIPTION:? Exciting Webinar Alert! ? Join NorthIsle Copper & Gold with FTMIG Events on Mar 20th\, 7pm ET. Don’t miss Sam Lee’s update & Q&A! Secure your spot NOW! #NorthIsleCopperGold #Investing #Webinar #QandA \n? Reserve here: https://events.ftmig.ca/follow-the-money-investor-gr/Northisle-Copper-and-Gold-Inc
URL:https://northisle.ca/events/northisle-town-hall-webinar/
LOCATION:British Columbia
END:VEVENT
END:VCALENDAR