BEGIN:VCALENDAR
VERSION:2.0
PRODID:-//Northisle - ECPv6.15.20//NONSGML v1.0//EN
CALSCALE:GREGORIAN
METHOD:PUBLISH
X-ORIGINAL-URL:https://northisle.ca
X-WR-CALDESC:Events for Northisle
REFRESH-INTERVAL;VALUE=DURATION:PT1H
X-Robots-Tag:noindex
X-PUBLISHED-TTL:PT1H
BEGIN:VTIMEZONE
TZID:America/Vancouver
BEGIN:DAYLIGHT
TZOFFSETFROM:-0800
TZOFFSETTO:-0700
TZNAME:PDT
DTSTART:20220313T100000
END:DAYLIGHT
BEGIN:STANDARD
TZOFFSETFROM:-0700
TZOFFSETTO:-0800
TZNAME:PST
DTSTART:20221106T090000
END:STANDARD
BEGIN:DAYLIGHT
TZOFFSETFROM:-0800
TZOFFSETTO:-0700
TZNAME:PDT
DTSTART:20230312T100000
END:DAYLIGHT
BEGIN:STANDARD
TZOFFSETFROM:-0700
TZOFFSETTO:-0800
TZNAME:PST
DTSTART:20231105T090000
END:STANDARD
BEGIN:DAYLIGHT
TZOFFSETFROM:-0800
TZOFFSETTO:-0700
TZNAME:PDT
DTSTART:20240310T100000
END:DAYLIGHT
BEGIN:STANDARD
TZOFFSETFROM:-0700
TZOFFSETTO:-0800
TZNAME:PST
DTSTART:20241103T090000
END:STANDARD
END:VTIMEZONE
BEGIN:VEVENT
DTSTART;TZID=America/Vancouver:20230302T080000
DTEND;TZID=America/Vancouver:20230302T170000
DTSTAMP:20260424T082407
CREATED:20230331T010247Z
LAST-MODIFIED:20230331T010247Z
UID:2465-1677744000-1677776400@northisle.ca
SUMMARY:Red Cloud Pre-PDAC conference
DESCRIPTION:
URL:https://northisle.ca/events/red-cloud-pre-pdac-conference/
LOCATION:British Columbia
END:VEVENT
BEGIN:VEVENT
DTSTART;VALUE=DATE:20230305
DTEND;VALUE=DATE:20230309
DTSTAMP:20260424T082407
CREATED:20240118T013730Z
LAST-MODIFIED:20240118T013730Z
UID:2998-1677974400-1678319999@northisle.ca
SUMMARY:Prospectors & Developers Association of Canada
DESCRIPTION:
URL:https://northisle.ca/events/prospectors-developers-association-of-canada/
LOCATION:Toronto\, ON\, 40 King St. W\, 54th Floor\, Toronto\, Ontario\, Canada
END:VEVENT
BEGIN:VEVENT
DTSTART;TZID=America/Vancouver:20230305T080000
DTEND;TZID=America/Vancouver:20230305T170000
DTSTAMP:20260424T082407
CREATED:20230601T032040Z
LAST-MODIFIED:20230603T005626Z
UID:2587-1678003200-1678035600@northisle.ca
SUMMARY:Red Cloud conference presentation
DESCRIPTION:
URL:https://northisle.ca/events/red-cloud-conference-presentation/
LOCATION:British Columbia
END:VEVENT
BEGIN:VEVENT
DTSTART;TZID=America/Vancouver:20230305T080000
DTEND;TZID=America/Vancouver:20230305T170000
DTSTAMP:20260424T082407
CREATED:20230603T005754Z
LAST-MODIFIED:20230603T005754Z
UID:2637-1678003200-1678035600@northisle.ca
SUMMARY:Red Cloud TV interview
DESCRIPTION:
URL:https://northisle.ca/events/red-cloud-tv-interview/
LOCATION:British Columbia
END:VEVENT
BEGIN:VEVENT
DTSTART;TZID=America/Vancouver:20230305T080000
DTEND;TZID=America/Vancouver:20230308T170000
DTSTAMP:20260424T082407
CREATED:20230331T010207Z
LAST-MODIFIED:20230331T010207Z
UID:2461-1678003200-1678294800@northisle.ca
SUMMARY:PDAC
DESCRIPTION:
URL:https://northisle.ca/events/pdac/
LOCATION:British Columbia
END:VEVENT
BEGIN:VEVENT
DTSTART;TZID=America/Vancouver:20230306T080000
DTEND;TZID=America/Vancouver:20230306T170000
DTSTAMP:20260424T082407
CREATED:20230601T024912Z
LAST-MODIFIED:20230603T004756Z
UID:2585-1678089600-1678122000@northisle.ca
SUMMARY:SagaCity Media interview
DESCRIPTION:
URL:https://northisle.ca/events/sagacity-media-interview/
LOCATION:British Columbia
END:VEVENT
BEGIN:VEVENT
DTSTART;TZID=America/Vancouver:20230307T080000
DTEND;TZID=America/Vancouver:20230307T170000
DTSTAMP:20260424T082407
CREATED:20230331T010232Z
LAST-MODIFIED:20230331T010232Z
UID:2463-1678176000-1678208400@northisle.ca
SUMMARY:PDAC one-on-one meetings
DESCRIPTION:
URL:https://northisle.ca/events/pdac-one-on-one-meetings/
LOCATION:British Columbia
END:VEVENT
BEGIN:VEVENT
DTSTART;TZID=America/Vancouver:20230317T080000
DTEND;TZID=America/Vancouver:20230317T170000
DTSTAMP:20260424T082407
CREATED:20230318T021221Z
LAST-MODIFIED:20230603T005119Z
UID:2580-1679040000-1679072400@northisle.ca
SUMMARY:PDAC interview
DESCRIPTION:
URL:https://northisle.ca/events/pdac-interview/
LOCATION:British Columbia
END:VEVENT
BEGIN:VEVENT
DTSTART;VALUE=DATE:20230328
DTEND;VALUE=DATE:20230330
DTSTAMP:20260424T082407
CREATED:20240118T013933Z
LAST-MODIFIED:20240118T013933Z
UID:3000-1679961600-1680134399@northisle.ca
SUMMARY:121 Mining Investment Conference
DESCRIPTION:
URL:https://northisle.ca/events/121-mining-investment-conference/
LOCATION:Las Vegas\, NV\, Las Vegas\, NV\, United States
END:VEVENT
BEGIN:VEVENT
DTSTART;TZID=America/Vancouver:20230328T080000
DTEND;TZID=America/Vancouver:20230329T170000
DTSTAMP:20260424T082407
CREATED:20230331T005718Z
LAST-MODIFIED:20230603T005343Z
UID:2455-1679990400-1680109200@northisle.ca
SUMMARY:121 Las Vegas
DESCRIPTION:
URL:https://northisle.ca/events/121-las-vegas/
LOCATION:British Columbia
END:VEVENT
END:VCALENDAR