BEGIN:VCALENDAR
VERSION:2.0
PRODID:-//Northisle - ECPv6.15.20//NONSGML v1.0//EN
CALSCALE:GREGORIAN
METHOD:PUBLISH
X-WR-CALNAME:Northisle
X-ORIGINAL-URL:https://northisle.ca
X-WR-CALDESC:Events for Northisle
REFRESH-INTERVAL;VALUE=DURATION:PT1H
X-Robots-Tag:noindex
X-PUBLISHED-TTL:PT1H
BEGIN:VTIMEZONE
TZID:America/Vancouver
BEGIN:DAYLIGHT
TZOFFSETFROM:-0800
TZOFFSETTO:-0700
TZNAME:PDT
DTSTART:20240310T100000
END:DAYLIGHT
BEGIN:STANDARD
TZOFFSETFROM:-0700
TZOFFSETTO:-0800
TZNAME:PST
DTSTART:20241103T090000
END:STANDARD
BEGIN:DAYLIGHT
TZOFFSETFROM:-0800
TZOFFSETTO:-0700
TZNAME:PDT
DTSTART:20250309T100000
END:DAYLIGHT
BEGIN:STANDARD
TZOFFSETFROM:-0700
TZOFFSETTO:-0800
TZNAME:PST
DTSTART:20251102T090000
END:STANDARD
BEGIN:DAYLIGHT
TZOFFSETFROM:-0800
TZOFFSETTO:-0700
TZNAME:PDT
DTSTART:20260308T100000
END:DAYLIGHT
BEGIN:STANDARD
TZOFFSETFROM:-0700
TZOFFSETTO:-0800
TZNAME:PST
DTSTART:20261101T090000
END:STANDARD
END:VTIMEZONE
BEGIN:VEVENT
DTSTART;VALUE=DATE:20250302
DTEND;VALUE=DATE:20250306
DTSTAMP:20260422T161116
CREATED:20250223T160438Z
LAST-MODIFIED:20250223T160438Z
UID:3905-1740873600-1741219199@northisle.ca
SUMMARY:Prospectors & Developers Association of Canada (PDAC) - Toronto\, ON
DESCRIPTION:
URL:https://northisle.ca/events/prospectors-developers-association-of-canada-pdac-toronto-on/
LOCATION:British Columbia
END:VEVENT
BEGIN:VEVENT
DTSTART;TZID=America/Vancouver:20250327T090000
DTEND;TZID=America/Vancouver:20250327T120000
DTSTAMP:20260422T161116
CREATED:20250311T201624Z
LAST-MODIFIED:20250311T201624Z
UID:3928-1743066000-1743076800@northisle.ca
SUMMARY:NAI 500 / GCFF Virtual 2025 - Gold Explorer Conference
DESCRIPTION:
URL:https://northisle.ca/events/nai-500-gcff-virtual-2025-gold-explorer-conference/
LOCATION:British Columbia
END:VEVENT
END:VCALENDAR